BEGIN:VCALENDAR
VERSION:2.0
PRODID:-//Wallowa Avalanche Center - ECPv6.15.20//NONSGML v1.0//EN
CALSCALE:GREGORIAN
METHOD:PUBLISH
X-WR-CALNAME:Wallowa Avalanche Center
X-ORIGINAL-URL:https://wallowaavalanchecenter.org
X-WR-CALDESC:Events for Wallowa Avalanche Center
REFRESH-INTERVAL;VALUE=DURATION:PT1H
X-Robots-Tag:noindex
X-PUBLISHED-TTL:PT1H
BEGIN:VTIMEZONE
TZID:America/Los_Angeles
BEGIN:DAYLIGHT
TZOFFSETFROM:-0800
TZOFFSETTO:-0700
TZNAME:PDT
DTSTART:20240310T100000
END:DAYLIGHT
BEGIN:STANDARD
TZOFFSETFROM:-0700
TZOFFSETTO:-0800
TZNAME:PST
DTSTART:20241103T090000
END:STANDARD
BEGIN:DAYLIGHT
TZOFFSETFROM:-0800
TZOFFSETTO:-0700
TZNAME:PDT
DTSTART:20250309T100000
END:DAYLIGHT
BEGIN:STANDARD
TZOFFSETFROM:-0700
TZOFFSETTO:-0800
TZNAME:PST
DTSTART:20251102T090000
END:STANDARD
BEGIN:DAYLIGHT
TZOFFSETFROM:-0800
TZOFFSETTO:-0700
TZNAME:PDT
DTSTART:20260308T100000
END:DAYLIGHT
BEGIN:STANDARD
TZOFFSETFROM:-0700
TZOFFSETTO:-0800
TZNAME:PST
DTSTART:20261101T090000
END:STANDARD
END:VTIMEZONE
BEGIN:VEVENT
DTSTART;TZID=America/Los_Angeles:20250131T180000
DTEND;TZID=America/Los_Angeles:20250202T170000
DTSTAMP:20260423T014259
CREATED:20250118T172411Z
LAST-MODIFIED:20250118T172859Z
UID:5222-1738346400-1738515600@wallowaavalanchecenter.org
SUMMARY:13th Annual Eastern Oregon Backcountry Festival Jan 31-Feb 2nd
DESCRIPTION:Eastern Oregon Backcountry Festival-Bid on the Online Auction Now!!! \nJoin us for the 13th Annual Eastern Oregon Backcountry Festival January 31-February 2nd. \n\nJan. 31: Ski Film and Pie Auction @HQ in La Grande.  Doors open 6:00 PM Adults $10\, Kids $5.  Come watch the new Matchstick Film Calm Beneath Castles and bid on pies and other desserts.  If you would like to bring a dessert for the auction please arrive at 6:00 PM.\nFeb. 1: Kip Rand Backcountry Race (Anthony Lakes) Race starts at 8 AM\, show up at 7:45.  Companion Rescue Clinic 10 AM\, Snow Pack Obs Clinic 1 PM.  Live music by Wanderlust 3:30 PM Main Lodge with raffle.  (You must show up 15 min early for clinics and race at EOBF tent on S. Side of Rental shop.)\nFeb 2: Tour with WAC Staff:  Ski tour into Angell Basin to better understand how to safely travel in avalanche terrain.  Please consider purchasing raffle tickets\, bidding on an auction item\, or donating $50 to the Wallowa Avalanche Center if you are planning to attend this tour.
URL:https://wallowaavalanchecenter.org/classes-events/13th-annual-eastern-oregon-backcountry-festival-jan-31-feb-2nd/
CATEGORIES:Events
ATTACH;FMTTYPE=image/png:https://wallowaavalanchecenter.org/wp-content/uploads/2025/01/Eastern-Oregon-Backcountry-Festival-1-1.png
END:VEVENT
END:VCALENDAR