BEGIN:VCALENDAR
VERSION:2.0
PRODID:-//Wallowa Avalanche Center - ECPv6.15.20//NONSGML v1.0//EN
CALSCALE:GREGORIAN
METHOD:PUBLISH
X-WR-CALNAME:Wallowa Avalanche Center
X-ORIGINAL-URL:https://wallowaavalanchecenter.org
X-WR-CALDESC:Events for Wallowa Avalanche Center
REFRESH-INTERVAL;VALUE=DURATION:PT1H
X-Robots-Tag:noindex
X-PUBLISHED-TTL:PT1H
BEGIN:VTIMEZONE
TZID:America/Los_Angeles
BEGIN:DAYLIGHT
TZOFFSETFROM:-0800
TZOFFSETTO:-0700
TZNAME:PDT
DTSTART:20230312T100000
END:DAYLIGHT
BEGIN:STANDARD
TZOFFSETFROM:-0700
TZOFFSETTO:-0800
TZNAME:PST
DTSTART:20231105T090000
END:STANDARD
BEGIN:DAYLIGHT
TZOFFSETFROM:-0800
TZOFFSETTO:-0700
TZNAME:PDT
DTSTART:20240310T100000
END:DAYLIGHT
BEGIN:STANDARD
TZOFFSETFROM:-0700
TZOFFSETTO:-0800
TZNAME:PST
DTSTART:20241103T090000
END:STANDARD
BEGIN:DAYLIGHT
TZOFFSETFROM:-0800
TZOFFSETTO:-0700
TZNAME:PDT
DTSTART:20250309T100000
END:DAYLIGHT
BEGIN:STANDARD
TZOFFSETFROM:-0700
TZOFFSETTO:-0800
TZNAME:PST
DTSTART:20251102T090000
END:STANDARD
END:VTIMEZONE
BEGIN:VEVENT
DTSTART;TZID=America/Los_Angeles:20241219T170000
DTEND;TZID=America/Los_Angeles:20241219T190000
DTSTAMP:20260423T030719
CREATED:20241216T150713Z
LAST-MODIFIED:20241216T150713Z
UID:5216-1734627600-1734634800@wallowaavalanchecenter.org
SUMMARY:Barley Browns-Avalanche Education Research Presentation
DESCRIPTION:Join EOU Professor and WAC Forecaster and Educator Kelly McNeil at Barley Browns on December 19th at 5 PM.  Kelly has some exciting new research to share\, which incorporates her background in Public Health and Avalanche Research. \nYou can read more about her research with Ian McCammon here.
URL:https://wallowaavalanchecenter.org/classes-events/barley-browns-avalanche-education-research-presentation/
CATEGORIES:Events
END:VEVENT
END:VCALENDAR