BEGIN:VCALENDAR
VERSION:2.0
PRODID:-//Wallowa Avalanche Center - ECPv6.15.20//NONSGML v1.0//EN
CALSCALE:GREGORIAN
METHOD:PUBLISH
X-WR-CALNAME:Wallowa Avalanche Center
X-ORIGINAL-URL:https://wallowaavalanchecenter.org
X-WR-CALDESC:Events for Wallowa Avalanche Center
REFRESH-INTERVAL;VALUE=DURATION:PT1H
X-Robots-Tag:noindex
X-PUBLISHED-TTL:PT1H
BEGIN:VTIMEZONE
TZID:America/Los_Angeles
BEGIN:DAYLIGHT
TZOFFSETFROM:-0800
TZOFFSETTO:-0700
TZNAME:PDT
DTSTART:20230312T100000
END:DAYLIGHT
BEGIN:STANDARD
TZOFFSETFROM:-0700
TZOFFSETTO:-0800
TZNAME:PST
DTSTART:20231105T090000
END:STANDARD
BEGIN:DAYLIGHT
TZOFFSETFROM:-0800
TZOFFSETTO:-0700
TZNAME:PDT
DTSTART:20240310T100000
END:DAYLIGHT
BEGIN:STANDARD
TZOFFSETFROM:-0700
TZOFFSETTO:-0800
TZNAME:PST
DTSTART:20241103T090000
END:STANDARD
BEGIN:DAYLIGHT
TZOFFSETFROM:-0800
TZOFFSETTO:-0700
TZNAME:PDT
DTSTART:20250309T100000
END:DAYLIGHT
BEGIN:STANDARD
TZOFFSETFROM:-0700
TZOFFSETTO:-0800
TZNAME:PST
DTSTART:20251102T090000
END:STANDARD
END:VTIMEZONE
BEGIN:VEVENT
DTSTART;TZID=America/Los_Angeles:20241102T170000
DTEND;TZID=America/Los_Angeles:20241102T200000
DTSTAMP:20260423T044005
CREATED:20241011T182710Z
LAST-MODIFIED:20241011T182736Z
UID:5190-1730566800-1730577600@wallowaavalanchecenter.org
SUMMARY:M Crow Fundraiser Nov 2
DESCRIPTION:Date: Saturday\, November 2nd\nLocation: M. Crow\nWhen: 5 PM\nWhat: This is a fundraiser for the Wallowa Avalanche Center to help raise funds for avalanche forecasting for the upcoming season. M. Crow will be providing Pizza & Beer for attendees to purchase (proceeds go directly to WAC) and we will also be doing a 50/50 Raffle\, as well as raffling off a spot in one of our avalanche courses in Joseph ($500 Value).
URL:https://wallowaavalanchecenter.org/classes-events/m-crow-fundraiser-nov-2/
CATEGORIES:Events
ATTACH;FMTTYPE=image/png:https://wallowaavalanchecenter.org/wp-content/uploads/2024/10/M-Crow-Poster.png
END:VEVENT
END:VCALENDAR