BEGIN:VCALENDAR
VERSION:2.0
PRODID:-//Wallowa Avalanche Center - ECPv6.15.20//NONSGML v1.0//EN
CALSCALE:GREGORIAN
METHOD:PUBLISH
X-ORIGINAL-URL:https://wallowaavalanchecenter.org
X-WR-CALDESC:Events for Wallowa Avalanche Center
REFRESH-INTERVAL;VALUE=DURATION:PT1H
X-Robots-Tag:noindex
X-PUBLISHED-TTL:PT1H
BEGIN:VTIMEZONE
TZID:America/Los_Angeles
BEGIN:DAYLIGHT
TZOFFSETFROM:-0800
TZOFFSETTO:-0700
TZNAME:PDT
DTSTART:20210314T100000
END:DAYLIGHT
BEGIN:STANDARD
TZOFFSETFROM:-0700
TZOFFSETTO:-0800
TZNAME:PST
DTSTART:20211107T090000
END:STANDARD
BEGIN:DAYLIGHT
TZOFFSETFROM:-0800
TZOFFSETTO:-0700
TZNAME:PDT
DTSTART:20220313T100000
END:DAYLIGHT
BEGIN:STANDARD
TZOFFSETFROM:-0700
TZOFFSETTO:-0800
TZNAME:PST
DTSTART:20221106T090000
END:STANDARD
BEGIN:DAYLIGHT
TZOFFSETFROM:-0800
TZOFFSETTO:-0700
TZNAME:PDT
DTSTART:20230312T100000
END:DAYLIGHT
BEGIN:STANDARD
TZOFFSETFROM:-0700
TZOFFSETTO:-0800
TZNAME:PST
DTSTART:20231105T090000
END:STANDARD
END:VTIMEZONE
BEGIN:VEVENT
DTSTART;TZID=America/Los_Angeles:20221115T080000
DTEND;TZID=America/Los_Angeles:20221210T170000
DTSTAMP:20260424T165811
CREATED:20221116T203458Z
LAST-MODIFIED:20221116T203620Z
UID:4966-1668499200-1670691600@wallowaavalanchecenter.org
SUMMARY:Art Center East Fundraiser for WAC
DESCRIPTION:ACE is again hosting its annual Galleries Fundraiser in collaboration with Wallowa Avalanche Center (WAC) to raise funds for WAC’s avalanche education programs and ACE’s Galleries Program. The fundraiser runs November 15 – December 10\, 2022. \nThe fundraiser is a raffle of eleven original works by local artist and avid outdoorsman Craig Canoy who passed away in 2020. Craig bequeathed his art collection to ACE for the organization to use for fundraising. \nMany of the beautiful pieces in Craig’s collection are his own work and many depict winter outdoor activities\, environments\, and landscapes in our region. \nRaffle tickets are $20 per single ticket or $100 for six tickets. The eleven winning tickets will be drawn December 10 during one of ACE’s December Sip and Shop Saturdays. The first winner will have first choice from the eleven artworks. As the subsequent winners are drawn\, each will select their choice from the remaining artworks. The pieces have a combined value of more than $3\,000. \nCheck out the gallery and purchase tickets here. 
URL:https://wallowaavalanchecenter.org/classes-events/art-center-east-fundraiser-for-wac/
LOCATION:Art Center East\, 1006 Penn Ave\, La Grande\, OR
CATEGORIES:Events
END:VEVENT
END:VCALENDAR